BEGIN:VCALENDAR
VERSION:2.0
PRODID:-//Kids and Families Together - ECPv6.15.20//NONSGML v1.0//EN
CALSCALE:GREGORIAN
METHOD:PUBLISH
X-WR-CALNAME:Kids and Families Together
X-ORIGINAL-URL:https://www.kidsandfamilies.org
X-WR-CALDESC:Events for Kids and Families Together
REFRESH-INTERVAL;VALUE=DURATION:PT1H
X-Robots-Tag:noindex
X-PUBLISHED-TTL:PT1H
BEGIN:VTIMEZONE
TZID:America/Los_Angeles
BEGIN:DAYLIGHT
TZOFFSETFROM:-0800
TZOFFSETTO:-0700
TZNAME:PDT
DTSTART:20210314T100000
END:DAYLIGHT
BEGIN:STANDARD
TZOFFSETFROM:-0700
TZOFFSETTO:-0800
TZNAME:PST
DTSTART:20211107T090000
END:STANDARD
BEGIN:DAYLIGHT
TZOFFSETFROM:-0800
TZOFFSETTO:-0700
TZNAME:PDT
DTSTART:20220313T100000
END:DAYLIGHT
BEGIN:STANDARD
TZOFFSETFROM:-0700
TZOFFSETTO:-0800
TZNAME:PST
DTSTART:20221106T090000
END:STANDARD
BEGIN:DAYLIGHT
TZOFFSETFROM:-0800
TZOFFSETTO:-0700
TZNAME:PDT
DTSTART:20230312T100000
END:DAYLIGHT
BEGIN:STANDARD
TZOFFSETFROM:-0700
TZOFFSETTO:-0800
TZNAME:PST
DTSTART:20231105T090000
END:STANDARD
END:VTIMEZONE
BEGIN:VEVENT
DTSTART;TZID=America/Los_Angeles:20220817T103000
DTEND;TZID=America/Los_Angeles:20220817T120000
DTSTAMP:20260421T010407
CREATED:20220817T163737Z
LAST-MODIFIED:20220817T163851Z
UID:16804-1660732200-1660737600@www.kidsandfamilies.org
SUMMARY:It's All About Effective Communication- Training
DESCRIPTION:Join us for a new training\, “It’s All About Effective Communication”! \nWhen: Wednesday\, August 17\, 2022 from 10:30am-12:00pm\nWhere: Zoom \nPlease click here or on the the link on this event to register. \nTraining Outcomes:\n▪ Learn the importance of explaining\neverything\, examples of age-appropriate communication\n▪ Understand the importance of consistent messages in all settings\n▪ Understand the importance of listening and getting input from children \n  \nPlease click images to expand
URL:https://www.kidsandfamilies.org/event/its-all-about-effective-communication-training/
LOCATION:CA
END:VEVENT
END:VCALENDAR